BEGIN:VCALENDAR
VERSION:2.0
PRODID:-//eventon.com NONSGML v1.0//EN
CALSCALE:GREGORIAN
METHOD:PUBLISH
BEGIN:VEVENT
UID:69e840061be69
DTSTAMP:20260422T032702Z
DTSTART:20240202T230000Z
DTEND:20240203T010000Z
LOCATION:La Mirada Library - Meeting Room 13800 La Mirada Boulevard\,  La Mirada\,  CA 90638
SUMMARY:Celebrate Lunar New Year - La Mirada Library
DESCRIPTION:Celebrate Lunar New Year - La Mirada Library\nhttps://lacounty.
 gov/events/celebrate-lunar-new-year-la-mirada-library/
URL:https://lacounty.gov/events/celebrate-lunar-new-year-la-mirada-library/
END:VEVENT
END:VCALENDAR