BEGIN:VCALENDAR
VERSION:2.0
PRODID:-//eventon.com NONSGML v1.0//EN
CALSCALE:GREGORIAN
METHOD:PUBLISH
BEGIN:VEVENT
UID:69ebee2364072
DTSTAMP:20260424T222643Z
DTSTART:20240218T170000Z
DTEND:20240219T010000Z
LOCATION:Main Street between First and Third Streets Main Street between First and Third Streets
SUMMARY:2024 Alhambra Lunar New Year Festival
DESCRIPTION:2024 Alhambra Lunar New Year Festival\nhttps://lacounty.gov/eve
 nts/alhambra-lunar-new-year-festival/
URL:https://lacounty.gov/events/alhambra-lunar-new-year-festival/
END:VEVENT
END:VCALENDAR